BEGIN:VCALENDAR
VERSION:2.0
PRODID:-//SOMUPAR - ECPv5.3.2.1//NONSGML v1.0//EN
CALSCALE:GREGORIAN
METHOD:PUBLISH
X-WR-CALNAME:SOMUPAR
X-ORIGINAL-URL:https://somupar.org
X-WR-CALDESC:Eventos para SOMUPAR
BEGIN:VTIMEZONE
TZID:Europe/Madrid
BEGIN:DAYLIGHT
TZOFFSETFROM:+0100
TZOFFSETTO:+0200
TZNAME:CEST
DTSTART:20210328T010000
END:DAYLIGHT
BEGIN:STANDARD
TZOFFSETFROM:+0200
TZOFFSETTO:+0100
TZNAME:CET
DTSTART:20211031T010000
END:STANDARD
END:VTIMEZONE
BEGIN:VEVENT
DTSTART;TZID=Europe/Madrid:20211020T153000
DTEND;TZID=Europe/Madrid:20211021T200000
DTSTAMP:20260424T233020
CREATED:20210915T170930Z
LAST-MODIFIED:20211019T103045Z
UID:282-1634743800-1634846400@somupar.org
SUMMARY:VI Jornadas Murcianas de Patología del Aparato Respiratorio
DESCRIPTION:PROGRAMA  VI  JORNADAS MURCIANAS DE  APTOLOGÍA DEL APARATO RESPIRATORIO – WEBINAR 2021 \n  \nBoletín de Inscripción  \n  \nNormas para las Comunicaciones
URL:https://somupar.org/evento/vi-jornadas-murcianas-de-patologia-del-aparato-respiratoria/
ATTACH;FMTTYPE=image/png:https://somupar.org/wp-content/uploads/2021/09/IVjornadas.png
END:VEVENT
END:VCALENDAR