BEGIN:VCALENDAR
VERSION:2.0
PRODID:-//SOMUPAR - ECPv5.3.2.1//NONSGML v1.0//EN
CALSCALE:GREGORIAN
METHOD:PUBLISH
X-WR-CALNAME:SOMUPAR
X-ORIGINAL-URL:https://somupar.org
X-WR-CALDESC:Eventos para SOMUPAR
BEGIN:VTIMEZONE
TZID:Europe/Madrid
BEGIN:DAYLIGHT
TZOFFSETFROM:+0100
TZOFFSETTO:+0200
TZNAME:CEST
DTSTART:20230326T010000
END:DAYLIGHT
BEGIN:STANDARD
TZOFFSETFROM:+0200
TZOFFSETTO:+0100
TZNAME:CET
DTSTART:20231029T010000
END:STANDARD
END:VTIMEZONE
BEGIN:VEVENT
DTSTART;TZID=Europe/Madrid:20231103T173000
DTEND;TZID=Europe/Madrid:20231103T213000
DTSTAMP:20260424T220238
CREATED:20231004T054151Z
LAST-MODIFIED:20231004T054151Z
UID:399-1699032600-1699047000@somupar.org
SUMMARY:II Reunión conjunta Sociedad Murciana de Reumatología- Sociedad Murciana de Patología del Aparato Respiratorio
DESCRIPTION:El próximo viernes 3 de noviembre en el Hotel Agalia de la capital murciana tendrá lugar el II encuentro conjunto de la Sociedad Murciana de Reumatología #REUMAMURCIA y la Sociedad Murciana de Patología del Aparato Respiratorio #SOMUPAR sobre la actualización en EPID y Enfermedades Autoinmunes. Consulta todo el programa de la jornada: \n 
URL:https://somupar.org/evento/ii-reunion-conjunta-sociedad-murciana-de-reumatologia-sociedad-murciana-de-patologia-del-aparato-respiratorio/
ATTACH;FMTTYPE=image/jpeg:https://somupar.org/wp-content/uploads/2023/10/Sin-titulo-1.jpg
END:VEVENT
END:VCALENDAR