BEGIN:VCALENDAR
VERSION:2.0
PRODID:-//SOMUPAR - ECPv5.3.2.1//NONSGML v1.0//EN
CALSCALE:GREGORIAN
METHOD:PUBLISH
X-WR-CALNAME:SOMUPAR
X-ORIGINAL-URL:https://somupar.org
X-WR-CALDESC:Eventos para SOMUPAR
BEGIN:VTIMEZONE
TZID:Europe/Madrid
BEGIN:DAYLIGHT
TZOFFSETFROM:+0100
TZOFFSETTO:+0200
TZNAME:CEST
DTSTART:20240331T010000
END:DAYLIGHT
BEGIN:STANDARD
TZOFFSETFROM:+0200
TZOFFSETTO:+0100
TZNAME:CET
DTSTART:20241027T010000
END:STANDARD
END:VTIMEZONE
BEGIN:VEVENT
DTSTART;VALUE=DATE:20240621
DTEND;VALUE=DATE:20240623
DTSTAMP:20260424T191458
CREATED:20240415T081123Z
LAST-MODIFIED:20240415T081123Z
UID:414-1718928000-1719100799@somupar.org
SUMMARY:ASGRAMANGA 2024 CURSO NACIONAL DE ASMA GRAVE PARA RESIDENTES Y ADJUNTOS JÓVENES (ALERGOLOGÍA\, NEUMOLOGÍA \, ORL y PEDIATRÍA)
DESCRIPTION:21-22 Junio 2024\nSede: Hoteles Los Delfines y Las Gaviotas.\nLa Manga del Mar Menor.\nSecretaría Técnica: Agencia viajes el Corte Inglés \nASGRAMANGA 2024 \n 
URL:https://somupar.org/evento/asgramanga-2024-curso-nacional-de-asma-grave-para-residentes-y-adjuntos-jovenes-alergologia-neumologia-orl-y-pediatria/
ATTACH;FMTTYPE=image/png:https://somupar.org/wp-content/uploads/2024/04/Captura-de-pantalla-2024-04-15-100935.png
END:VEVENT
END:VCALENDAR