BEGIN:VCALENDAR
VERSION:2.0
PRODID:-//SOMUPAR - ECPv5.3.2.1//NONSGML v1.0//EN
CALSCALE:GREGORIAN
METHOD:PUBLISH
X-WR-CALNAME:SOMUPAR
X-ORIGINAL-URL:https://somupar.org
X-WR-CALDESC:Eventos para SOMUPAR
BEGIN:VTIMEZONE
TZID:Europe/Madrid
BEGIN:DAYLIGHT
TZOFFSETFROM:+0100
TZOFFSETTO:+0200
TZNAME:CEST
DTSTART:20230326T010000
END:DAYLIGHT
BEGIN:STANDARD
TZOFFSETFROM:+0200
TZOFFSETTO:+0100
TZNAME:CET
DTSTART:20231029T010000
END:STANDARD
END:VTIMEZONE
BEGIN:VEVENT
DTSTART;TZID=Europe/Madrid:20230623T080000
DTEND;TZID=Europe/Madrid:20230624T203000
DTSTAMP:20260424T220225
CREATED:20230614T150545Z
LAST-MODIFIED:20230614T150624Z
UID:390-1687507200-1687638600@somupar.org
SUMMARY:Asgramanga 2023
DESCRIPTION:Segundo Curso de asma grave para residentes y adjuntos jóvenes los días 23 y 24 de junio en Hotel Aluasun de La Manga del Mar Menor. \nPrograma e inscripciones ▶️ https://viajeselcorteingles.sym.posium.com/94077/section/41554/ii-curso-asma-grave-para-residentes-y-adjuntos-jovenes.html
URL:https://somupar.org/evento/asgramanga-2023/
ATTACH;FMTTYPE=image/png:https://somupar.org/wp-content/uploads/2023/06/132979.png
END:VEVENT
END:VCALENDAR