BEGIN:VCALENDAR
VERSION:2.0
PRODID:-//SOMUPAR - ECPv5.3.2.1//NONSGML v1.0//EN
CALSCALE:GREGORIAN
METHOD:PUBLISH
X-WR-CALNAME:SOMUPAR
X-ORIGINAL-URL:https://somupar.org
X-WR-CALDESC:Eventos para SOMUPAR
BEGIN:VTIMEZONE
TZID:Europe/Madrid
BEGIN:DAYLIGHT
TZOFFSETFROM:+0100
TZOFFSETTO:+0200
TZNAME:CEST
DTSTART:20250330T010000
END:DAYLIGHT
BEGIN:STANDARD
TZOFFSETFROM:+0200
TZOFFSETTO:+0100
TZNAME:CET
DTSTART:20251026T010000
END:STANDARD
END:VTIMEZONE
BEGIN:VEVENT
DTSTART;VALUE=DATE:20251119
DTEND;VALUE=DATE:20251120
DTSTAMP:20260424T174309
CREATED:20251103T083348Z
LAST-MODIFIED:20251103T090538Z
UID:436-1763510400-1763596799@somupar.org
SUMMARY:IV REUNION MULTIDISCIPLINAR. ACTUALIZACION EPID EN ENFERMEDADES AUTOINMUNES SISTEMICAS
DESCRIPTION:19 de noviembre 2025 \nSede: Hotel Occidental Murcia Agalia \nHora: 17:00h a 20:20h \nPROGRAMA IV Reunión EPID (19nov25) \n 
URL:https://somupar.org/evento/iv-reunion-multidisciplinar-actualizacion-epid-en-enfermedades-autoinmunes-sistemicas/
ATTACH;FMTTYPE=image/png:https://somupar.org/wp-content/uploads/2025/11/Captura-de-pantalla-2025-11-03-100230.png
END:VEVENT
END:VCALENDAR